BEGIN:VCALENDAR
VERSION:2.0
PRODID:-//Brooklyn Center for Independence - ECPv6.15.17.1//NONSGML v1.0//EN
CALSCALE:GREGORIAN
METHOD:PUBLISH
X-WR-CALNAME:Brooklyn Center for Independence
X-ORIGINAL-URL:https://www.bcid.org
X-WR-CALDESC:Events for Brooklyn Center for Independence
REFRESH-INTERVAL;VALUE=DURATION:PT1H
X-Robots-Tag:noindex
X-PUBLISHED-TTL:PT1H
BEGIN:VTIMEZONE
TZID:UTC
BEGIN:STANDARD
TZOFFSETFROM:+0000
TZOFFSETTO:+0000
TZNAME:UTC
DTSTART:20150101T000000
END:STANDARD
END:VTIMEZONE
BEGIN:VEVENT
DTSTART;TZID=UTC:20160418T113000
DTEND;TZID=UTC:20160418T123000
DTSTAMP:20260421T184637
CREATED:20160329T191440Z
LAST-MODIFIED:20160329T191440Z
UID:174-1460979000-1460982600@www.bcid.org
SUMMARY:Access-A-Ride Presentation
DESCRIPTION:Come and hear from a representative about Access-A-Ride. \nThe presentation will include how to apply and reapply\, and additional information on how to use this door to door\, shared ride or feeder service.
URL:https://www.bcid.org/calendar-event/access-a-ride-presentation/
LOCATION:BCID Office\, 27 Smith Street #200\, Brooklyn \, 11201\, United States
ORGANIZER;CN="Sandrina":MAILTO:info@bcid.org
END:VEVENT
END:VCALENDAR