BEGIN:VCALENDAR
VERSION:2.0
PRODID:-//Brooklyn Center for Independence - ECPv6.15.17.1//NONSGML v1.0//EN
CALSCALE:GREGORIAN
METHOD:PUBLISH
X-WR-CALNAME:Brooklyn Center for Independence
X-ORIGINAL-URL:https://www.bcid.org
X-WR-CALDESC:Events for Brooklyn Center for Independence
REFRESH-INTERVAL;VALUE=DURATION:PT1H
X-Robots-Tag:noindex
X-PUBLISHED-TTL:PT1H
BEGIN:VTIMEZONE
TZID:America/New_York
BEGIN:DAYLIGHT
TZOFFSETFROM:-0500
TZOFFSETTO:-0400
TZNAME:EDT
DTSTART:20170312T070000
END:DAYLIGHT
BEGIN:STANDARD
TZOFFSETFROM:-0400
TZOFFSETTO:-0500
TZNAME:EST
DTSTART:20171105T060000
END:STANDARD
BEGIN:DAYLIGHT
TZOFFSETFROM:-0500
TZOFFSETTO:-0400
TZNAME:EDT
DTSTART:20180311T070000
END:DAYLIGHT
BEGIN:STANDARD
TZOFFSETFROM:-0400
TZOFFSETTO:-0500
TZNAME:EST
DTSTART:20181104T060000
END:STANDARD
BEGIN:DAYLIGHT
TZOFFSETFROM:-0500
TZOFFSETTO:-0400
TZNAME:EDT
DTSTART:20190310T070000
END:DAYLIGHT
BEGIN:STANDARD
TZOFFSETFROM:-0400
TZOFFSETTO:-0500
TZNAME:EST
DTSTART:20191103T060000
END:STANDARD
END:VTIMEZONE
BEGIN:VTIMEZONE
TZID:UTC
BEGIN:STANDARD
TZOFFSETFROM:+0000
TZOFFSETTO:+0000
TZNAME:UTC
DTSTART:20150101T000000
END:STANDARD
END:VTIMEZONE
BEGIN:VEVENT
DTSTART;TZID=America/New_York:20180507T100000
DTEND;TZID=America/New_York:20180507T110000
DTSTAMP:20260421T124223
CREATED:20180507T193453Z
LAST-MODIFIED:20180507T193534Z
UID:554-1525687200-1525690800@www.bcid.org
SUMMARY:72nd Street elevator protest with Assembly Member Helen Rosenthal
DESCRIPTION:
URL:https://www.bcid.org/calendar-event/72nd-street-elevator-protest-with-assembly-member-helen-rosenthal/
LOCATION:72nd Street subway station (B & C lines)
END:VEVENT
BEGIN:VEVENT
DTSTART;TZID=America/New_York:20180504T100000
DTEND;TZID=America/New_York:20180504T123000
DTSTAMP:20260421T124223
CREATED:20180425T231411Z
LAST-MODIFIED:20180425T231411Z
UID:512-1525428000-1525437000@www.bcid.org
SUMMARY:Blind and Low Vision Support Group
DESCRIPTION:Call 718-998-3000 for more information about joining the support group.
URL:https://www.bcid.org/calendar-event/blind-and-low-vision-support-group-5/
END:VEVENT
BEGIN:VEVENT
DTSTART;TZID=America/New_York:20180503T110000
DTEND;TZID=America/New_York:20180503T150000
DTSTAMP:20260421T124223
CREATED:20180425T230728Z
LAST-MODIFIED:20180425T230818Z
UID:499-1525345200-1525359600@www.bcid.org
SUMMARY:Assembly hearing on assisted suicide
DESCRIPTION:
URL:https://www.bcid.org/calendar-event/assembly-hearing-on-assisted-suicide/
LOCATION:Assembly Hearing Room\, 250 Broadway\, 19th floor\, New York\, NY\, 10007\, United States
END:VEVENT
BEGIN:VEVENT
DTSTART;TZID=America/New_York:20180502T100000
DTEND;TZID=America/New_York:20180502T160000
DTSTAMP:20260421T124223
CREATED:20180425T231119Z
LAST-MODIFIED:20180425T231119Z
UID:502-1525255200-1525276800@www.bcid.org
SUMMARY:ASL interpreter available (benefits counseling and other services)
DESCRIPTION:
URL:https://www.bcid.org/calendar-event/asl-interpreter-available-benefits-counseling-and-other-services-3/
END:VEVENT
BEGIN:VEVENT
DTSTART;TZID=America/New_York:20180430T093000
DTEND;TZID=America/New_York:20180430T123000
DTSTAMP:20260421T124223
CREATED:20180427T195839Z
LAST-MODIFIED:20180427T212521Z
UID:542-1525080600-1525091400@www.bcid.org
SUMMARY:FHV Committee hearing\, City Council
DESCRIPTION:Join BCID and the Taxis For All Campaign at a hearing on several bills intended to regulate for-hire-vehicle companies\, including increase accessibility. Hearing starts at 9:30\, but arrive no later than 10 a.m. to hear some of the Taxi and Limousine Commission’s testimony. We will testify later. Contact Yesenia Torres at ytorres@bcid.org for more information. \n 
URL:https://www.bcid.org/calendar-event/fhv-committee-hearing-city-council/
LOCATION:City Hall\, City Hall\, New York\, NY\, 10007\, United States
END:VEVENT
BEGIN:VEVENT
DTSTART;TZID=America/New_York:20180427T100000
DTEND;TZID=America/New_York:20180427T123000
DTSTAMP:20260421T124223
CREATED:20180327T151812Z
LAST-MODIFIED:20180327T151812Z
UID:338-1524823200-1524832200@www.bcid.org
SUMMARY:Blind and Low Vision Support Group
DESCRIPTION:Call 718-998-3000 for more information about joining the support group.
URL:https://www.bcid.org/calendar-event/blind-and-low-vision-support-group-4/
END:VEVENT
BEGIN:VEVENT
DTSTART;TZID=America/New_York:20180425T160000
DTEND;TZID=America/New_York:20180425T180000
DTSTAMP:20260421T124223
CREATED:20180404T162507Z
LAST-MODIFIED:20180404T190734Z
UID:394-1524672000-1524679200@www.bcid.org
SUMMARY:ACCES-VR evaluation meeting (sign up at 1-888-419-2698 or PIAR@potsdam.edu by April 23)
DESCRIPTION:You’re invited to a meeting to talk about your experience with ACCES-VR services and how they could be better. Refreshments and a light meal will be served. Sign up with the Potsdam Institute for Applied Research by Monday\, April 23 at 1-888-419-2698 or PIAR@potsdam.edu. If you need any accommodations\, such as a sign-language interpreter\, tell them when you sign up.
URL:https://www.bcid.org/calendar-event/acces-vr-evaluation-meeting-sign-up-1-888-419-2698-or-piarpotsdam-edu-by-april-23/
END:VEVENT
BEGIN:VEVENT
DTSTART;TZID=America/New_York:20180425T100000
DTEND;TZID=America/New_York:20180425T160000
DTSTAMP:20260421T124223
CREATED:20180328T144733Z
LAST-MODIFIED:20180328T144733Z
UID:358-1524650400-1524672000@www.bcid.org
SUMMARY:ASL interpreter available (benefits counseling and other services)
DESCRIPTION:
URL:https://www.bcid.org/calendar-event/asl-interpreter-available-benefits-counseling-and-other-services-2/
END:VEVENT
BEGIN:VEVENT
DTSTART;TZID=America/New_York:20180423T070000
DTEND;TZID=America/New_York:20180423T070000
DTSTAMP:20260421T124223
CREATED:20180403T174837Z
LAST-MODIFIED:20180421T200714Z
UID:384-1524466800-1524466800@www.bcid.org
SUMMARY:Legislative Action Day in Albany
DESCRIPTION:
URL:https://www.bcid.org/calendar-event/legislative-action-day-in-albany-call-yesenia-torres-at-718-998-3000-for-more-information/
END:VEVENT
BEGIN:VEVENT
DTSTART;TZID=America/New_York:20180420T100000
DTEND;TZID=America/New_York:20180420T123000
DTSTAMP:20260421T124223
CREATED:20180327T151428Z
LAST-MODIFIED:20180327T151428Z
UID:332-1524218400-1524227400@www.bcid.org
SUMMARY:Blind and Low Vision Support Group
DESCRIPTION:Call 718-998-3000 for more information about joining the support group.
URL:https://www.bcid.org/calendar-event/blind-and-low-vision-support-group/
END:VEVENT
BEGIN:VEVENT
DTSTART;TZID=America/New_York:20180418T100000
DTEND;TZID=America/New_York:20180418T160000
DTSTAMP:20260421T124223
CREATED:20180328T144710Z
LAST-MODIFIED:20180328T144710Z
UID:356-1524045600-1524067200@www.bcid.org
SUMMARY:ASL interpreter available (benefits counseling and other services)
DESCRIPTION:
URL:https://www.bcid.org/calendar-event/asl-interpreter-available-benefits-counseling-and-other-services/
END:VEVENT
BEGIN:VEVENT
DTSTART;TZID=America/New_York:20180417T123000
DTEND;TZID=America/New_York:20180417T143000
DTSTAMP:20260421T124223
CREATED:20180327T150511Z
LAST-MODIFIED:20180327T151234Z
UID:319-1523968200-1523975400@www.bcid.org
SUMMARY:Traumatic Brain Injury Support Group (Brain Injury Association)
DESCRIPTION:Call 718-998-3000 for more information about joining the support group.
URL:https://www.bcid.org/calendar-event/traumatic-brain-injury-support-group-brain-injury-association/
END:VEVENT
BEGIN:VEVENT
DTSTART;TZID=America/New_York:20180413T100000
DTEND;TZID=America/New_York:20180413T123000
DTSTAMP:20260421T124223
CREATED:20180327T150820Z
LAST-MODIFIED:20180327T151212Z
UID:325-1523613600-1523622600@www.bcid.org
SUMMARY:Blind and Low Vision Support Group
DESCRIPTION:Call 718-998-3000 for more information about joining the support group.
URL:https://www.bcid.org/calendar-event/blind-and-low-vision-support-group-3/
END:VEVENT
BEGIN:VEVENT
DTSTART;TZID=America/New_York:20180411T100000
DTEND;TZID=America/New_York:20180411T160000
DTSTAMP:20260421T124223
CREATED:20180328T144641Z
LAST-MODIFIED:20180328T144840Z
UID:354-1523440800-1523462400@www.bcid.org
SUMMARY:ASL interpreter available (benefits counseling and other services)
DESCRIPTION:
URL:https://www.bcid.org/calendar-event/american-sign-language-interpreter-available-benefits-counseling-and-other-services-2/
END:VEVENT
BEGIN:VEVENT
DTSTART;TZID=America/New_York:20180411T100000
DTEND;TZID=America/New_York:20180411T140000
DTSTAMP:20260421T124223
CREATED:20180327T150308Z
LAST-MODIFIED:20180327T150308Z
UID:317-1523440800-1523455200@www.bcid.org
SUMMARY:Free tax preparation (call 718-998-3000 for appointment)
DESCRIPTION:
URL:https://www.bcid.org/calendar-event/free-tax-preparation-call-718-998-3000-for-appointment-2/
END:VEVENT
BEGIN:VEVENT
DTSTART;TZID=America/New_York:20180411T100000
DTEND;TZID=America/New_York:20180411T100000
DTSTAMP:20260421T124223
CREATED:20180409T142024Z
LAST-MODIFIED:20180409T143002Z
UID:423-1523440800-1523440800@www.bcid.org
SUMMARY:FHV settlement conference\, 500 Pearl Street\, Courtroom 6B (Magistrate Gorenstein). Arrive by 9:30 a.m. to get in.
DESCRIPTION:Settlement conference in suit against FHV accessibility rules.
URL:https://www.bcid.org/calendar-event/fhv-settlement-conference-500-pearl-street-courtroom-6b-magistrate-gorenstein-arrive-early-to-get-in/
END:VEVENT
BEGIN:VEVENT
DTSTART;TZID=America/New_York:20180410T100000
DTEND;TZID=America/New_York:20180410T120000
DTSTAMP:20260421T124223
CREATED:20180409T141623Z
LAST-MODIFIED:20180409T142941Z
UID:418-1523354400-1523361600@www.bcid.org
SUMMARY:Middletown Road court conference\, 40 Foley Square\, Courtroom 619 (arrive by 9:30 a.m. to get in courthouse)
DESCRIPTION:Court conference in Middletown Avenue court case (subway station renovated without elevators).
URL:https://www.bcid.org/calendar-event/middletown-road-court-conference-arrive-early-to-get-in-courthouse/
LOCATION:60 Centre Street courthouse\, 60 Centre Street\, New York\, NY\, NY\, United States
END:VEVENT
BEGIN:VEVENT
DTSTART;TZID=America/New_York:20180406T100000
DTEND;TZID=America/New_York:20180406T123000
DTSTAMP:20260421T124223
CREATED:20180327T150732Z
LAST-MODIFIED:20180327T151259Z
UID:323-1523008800-1523017800@www.bcid.org
SUMMARY:Blind and Low Vision Support Group
DESCRIPTION:Call 718-998-3000 for more information about joining the support group.
URL:https://www.bcid.org/calendar-event/blind-and-low-vision-support-group-2/
END:VEVENT
BEGIN:VEVENT
DTSTART;TZID=America/New_York:20180404T100000
DTEND;TZID=America/New_York:20180404T160000
DTSTAMP:20260421T124223
CREATED:20180328T144551Z
LAST-MODIFIED:20180328T144551Z
UID:352-1522836000-1522857600@www.bcid.org
SUMMARY:American Sign Language interpreter available (benefits counseling and other services)
DESCRIPTION:
URL:https://www.bcid.org/calendar-event/american-sign-language-interpreter-available-benefits-counseling-and-other-services/
END:VEVENT
BEGIN:VEVENT
DTSTART;TZID=America/New_York:20180404T100000
DTEND;TZID=America/New_York:20180404T140000
DTSTAMP:20260421T124223
CREATED:20180327T150204Z
LAST-MODIFIED:20180327T150204Z
UID:315-1522836000-1522850400@www.bcid.org
SUMMARY:Free tax preparation (call 718-998-3000 for appointment)
DESCRIPTION:
URL:https://www.bcid.org/calendar-event/free-tax-preparation-call-718-998-3000-for-appointment/
END:VEVENT
BEGIN:VEVENT
DTSTART;TZID=UTC:20170709T100000
DTEND;TZID=UTC:20170709T150000
DTSTAMP:20260421T124223
CREATED:20170630T033328Z
LAST-MODIFIED:20170630T033328Z
UID:289-1499594400-1499612400@www.bcid.org
SUMMARY:Disability Pride NYC Parade and Festival
DESCRIPTION:Gather at Union Square before 11 a.m. for the parade\, which travels north on Broadway to the festival location at Madison Square Park. BCID will have a booth at the festival. Watch this space for more details or contact us at 718-998-3000 or info@bcid.org.
URL:https://www.bcid.org/calendar-event/disability-pride-nyc-parade-festival/
END:VEVENT
BEGIN:VEVENT
DTSTART;TZID=UTC:20160729T100000
DTEND;TZID=UTC:20160729T130000
DTSTAMP:20260421T124223
CREATED:20160705T190050Z
LAST-MODIFIED:20160705T190050Z
UID:230-1469786400-1469797200@www.bcid.org
SUMMARY:Support Group Low Vision
DESCRIPTION:
URL:https://www.bcid.org/calendar-event/support-group-low-vision-4/
LOCATION:BCID Office\, 27 Smith Street #200\, Brooklyn \, 11201\, United States
ORGANIZER;CN="Sandrina":MAILTO:info@bcid.org
END:VEVENT
BEGIN:VEVENT
DTSTART;TZID=UTC:20160728T130000
DTEND;TZID=UTC:20160728T150000
DTSTAMP:20260421T124223
CREATED:20160705T190324Z
LAST-MODIFIED:20160705T190324Z
UID:234-1469710800-1469718000@www.bcid.org
SUMMARY:Peer Support Group
DESCRIPTION:
URL:https://www.bcid.org/calendar-event/peer-support-group-6/
LOCATION:BCID Office\, 27 Smith Street #200\, Brooklyn \, 11201\, United States
ORGANIZER;CN="Sandrina":MAILTO:info@bcid.org
END:VEVENT
BEGIN:VEVENT
DTSTART;TZID=UTC:20160722T100000
DTEND;TZID=UTC:20160722T130000
DTSTAMP:20260421T124223
CREATED:20160705T190000Z
LAST-MODIFIED:20160705T190000Z
UID:229-1469181600-1469192400@www.bcid.org
SUMMARY:Support Group Low Vision
DESCRIPTION:
URL:https://www.bcid.org/calendar-event/support-group-low-vision-3/
LOCATION:BCID Office\, 27 Smith Street #200\, Brooklyn \, 11201\, United States
ORGANIZER;CN="Sandrina":MAILTO:info@bcid.org
END:VEVENT
BEGIN:VEVENT
DTSTART;TZID=UTC:20160721T130000
DTEND;TZID=UTC:20160721T150000
DTSTAMP:20260421T124223
CREATED:20160705T190235Z
LAST-MODIFIED:20160705T190235Z
UID:233-1469106000-1469113200@www.bcid.org
SUMMARY:Peer Support Group
DESCRIPTION:
URL:https://www.bcid.org/calendar-event/peer-support-group-5/
LOCATION:BCID Office\, 27 Smith Street #200\, Brooklyn \, 11201\, United States
ORGANIZER;CN="Sandrina":MAILTO:info@bcid.org
END:VEVENT
BEGIN:VEVENT
DTSTART;TZID=UTC:20160719T123000
DTEND;TZID=UTC:20160719T143000
DTSTAMP:20260421T124223
CREATED:20160705T190422Z
LAST-MODIFIED:20160705T190422Z
UID:235-1468931400-1468938600@www.bcid.org
SUMMARY:Traumatic Brain Injury Support Group
DESCRIPTION:
URL:https://www.bcid.org/calendar-event/traumatic-brain-injury-support-group-2/
LOCATION:BCID Office\, 27 Smith Street #200\, Brooklyn \, 11201\, United States
ORGANIZER;CN="Sandrina":MAILTO:info@bcid.org
END:VEVENT
BEGIN:VEVENT
DTSTART;TZID=UTC:20160715T100000
DTEND;TZID=UTC:20160715T130000
DTSTAMP:20260421T124223
CREATED:20160722T140034Z
LAST-MODIFIED:20160705T185335Z
UID:198-1468576800-1468587600@www.bcid.org
SUMMARY:Support group Blind/Low vision
DESCRIPTION:A support group for those who are Blind or have Low Vision\, call 718-998-3000
URL:https://www.bcid.org/calendar-event/support-group-blindlow-vision-2/
LOCATION:BCID Office\, 27 Smith Street #200\, Brooklyn \, 11201\, United States
ORGANIZER;CN="Sandrina":MAILTO:info@bcid.org
END:VEVENT
BEGIN:VEVENT
DTSTART;TZID=UTC:20160715T100000
DTEND;TZID=UTC:20160715T130000
DTSTAMP:20260421T124223
CREATED:20160705T185910Z
LAST-MODIFIED:20160705T185910Z
UID:228-1468576800-1468587600@www.bcid.org
SUMMARY:Support Group Low Vision
DESCRIPTION:
URL:https://www.bcid.org/calendar-event/support-group-low-vision-2/
LOCATION:BCID Office\, 27 Smith Street #200\, Brooklyn \, 11201\, United States
ORGANIZER;CN="Sandrina":MAILTO:info@bcid.org
END:VEVENT
BEGIN:VEVENT
DTSTART;TZID=UTC:20160714T130000
DTEND;TZID=UTC:20160714T150000
DTSTAMP:20260421T124223
CREATED:20160728T170012Z
LAST-MODIFIED:20160705T185326Z
UID:194-1468501200-1468508400@www.bcid.org
SUMMARY:Peer Support Group
DESCRIPTION:Peer support offers you the opportunity to share experiences\, expertise and encouragement. \nContact us to find out more and get involved!
URL:https://www.bcid.org/calendar-event/peer-support-group/
LOCATION:BCID Office\, 27 Smith Street #200\, Brooklyn \, 11201\, United States
ORGANIZER;CN="Sandrina":MAILTO:info@bcid.org
END:VEVENT
BEGIN:VEVENT
DTSTART;TZID=UTC:20160714T130000
DTEND;TZID=UTC:20160714T150000
DTSTAMP:20260421T124223
CREATED:20160705T190150Z
LAST-MODIFIED:20160705T190150Z
UID:231-1468501200-1468508400@www.bcid.org
SUMMARY:Peer Support Group
DESCRIPTION:
URL:https://www.bcid.org/calendar-event/peer-support-group-4/
LOCATION:BCID Office\, 27 Smith Street #200\, Brooklyn \, 11201\, United States
ORGANIZER;CN="Sandrina":MAILTO:info@bcid.org
END:VEVENT
END:VCALENDAR